BEGIN:VCALENDAR
VERSION:2.0
PRODID:-//Mahmood Fazal - ECPv6.15.3//NONSGML v1.0//EN
CALSCALE:GREGORIAN
METHOD:PUBLISH
X-ORIGINAL-URL:https://mahmoodfazal.com
X-WR-CALDESC:Events for Mahmood Fazal
REFRESH-INTERVAL;VALUE=DURATION:PT1H
X-Robots-Tag:noindex
X-PUBLISHED-TTL:PT1H
BEGIN:VTIMEZONE
TZID:America/New_York
BEGIN:DAYLIGHT
TZOFFSETFROM:-0500
TZOFFSETTO:-0400
TZNAME:EDT
DTSTART:20250309T070000
END:DAYLIGHT
BEGIN:STANDARD
TZOFFSETFROM:-0400
TZOFFSETTO:-0500
TZNAME:EST
DTSTART:20251102T060000
END:STANDARD
END:VTIMEZONE
BEGIN:VEVENT
DTSTART;TZID=America/New_York:20251016T170000
DTEND;TZID=America/New_York:20251016T190000
DTSTAMP:20260423T100817
CREATED:20250915T152034Z
LAST-MODIFIED:20251006T211158Z
UID:15415-1760634000-1760641200@mahmoodfazal.com
SUMMARY:A Simpatico Gallery Photography Walk with Mahmood Fazal
DESCRIPTION:Discover Charleston through the lens of Mahmood Fazal\, a professional photographer on a unique photography walk. Step away from the typical tourist spots and explore the city’s hidden gems\, capturing images that tell your own story. Along the way\, you’ll receive expert photography tips and personalized camera instruction to elevate your skills. Whether you’re a beginner or an experienced photographer\, this walk offers both creative inspiration and valuable insights to help you see Charleston in a whole new way. \n  \n  \n 
URL:https://mahmoodfazal.com/event/a-photography-walk/
LOCATION:Simpatico Gallery\, 63 Broad St\, Charleston\, SC\, 29401\, United States
ATTACH;FMTTYPE=image/jpeg:https://mahmoodfazal.com/wp-content/uploads/2025/10/IMG_3866.jpeg
END:VEVENT
BEGIN:VEVENT
DTSTART;TZID=America/New_York:20250918T173000
DTEND;TZID=America/New_York:20250918T193000
DTSTAMP:20260423T100817
CREATED:20250915T164714Z
LAST-MODIFIED:20250915T204413Z
UID:15426-1758216600-1758223800@mahmoodfazal.com
SUMMARY:An Afternoon Walk in Charleston
DESCRIPTION:Discover Charleston through the lens of a professional photographer on a unique photography walk. Step away from the typical tourist spots and explore the city’s hidden gems\, capturing images that tell your own story. Along the way\, you’ll receive expert photography tips and personalized camera instruction to elevate your skills. Whether you’re a beginner or an experienced photographer\, this walk offers both creative inspiration and valuable insights to help you see Charleston in a whole new way.
URL:https://mahmoodfazal.com/event/an-afternoon-walk-in-charleston/
ATTACH;FMTTYPE=image/jpeg:https://mahmoodfazal.com/wp-content/uploads/2025/09/IMG_3769.jpeg
END:VEVENT
END:VCALENDAR